BEGIN:VCALENDAR
VERSION:2.0
PRODID:SchoolNow
CALSCALE:GREGORIAN
BEGIN:VEVENT
UID:7aa20b96-c26e-11f0-91f4-02fe6ebadc2d
DTSTAMP:20251216T201016Z
SUMMARY:History Club
URL;VALUE=URI:https://www.op97.org/julian/calendar/8797474/history-club
DTSTART:20270715T203000Z
DTEND:20270715T213000Z
END:VEVENT
END:VCALENDAR
