BEGIN:VCALENDAR
VERSION:2.0
PRODID:SchoolNow
CALSCALE:GREGORIAN
BEGIN:VEVENT
UID:7ac5340e-c26e-11f0-86c8-02fe6ebadc2d
DTSTAMP:20251216T201016Z
SUMMARY:IMPACT mentoring
LOCATION:D304
URL;VALUE=URI:https://www.op97.org/julian/calendar/8797475/impact-mentoring
DTSTART:20270715T164000Z
DTEND:20270715T175000Z
END:VEVENT
END:VCALENDAR
