BEGIN:VCALENDAR
VERSION:2.0
PRODID:SchoolNow
CALSCALE:GREGORIAN
BEGIN:VEVENT
UID:5454203c-c56b-11f0-82d8-02f7f810c0bf
DTSTAMP:20251216T201016Z
SUMMARY:B.O.S.S Vibes
LOCATION:B408
URL;VALUE=URI:https://www.op97.org/julian/calendar/8803716/b-o-s-s-vibes
DTSTART:20270719T130000Z
DTEND:20270719T135000Z
END:VEVENT
END:VCALENDAR
