BEGIN:VCALENDAR
VERSION:2.0
PRODID:SchoolNow
CALSCALE:GREGORIAN
BEGIN:VEVENT
UID:4999edf8-c637-11f0-97a2-02fe1d5f4787
DTSTAMP:20251216T201015Z
SUMMARY:Calculation Corner
LOCATION:C205
URL;VALUE=URI:https://www.op97.org/julian/calendar/8805413/calculation-corn
 er
DTSTART:20270720T130000Z
DTEND:20270720T135000Z
END:VEVENT
END:VCALENDAR
