BEGIN:VCALENDAR
VERSION:2.0
PRODID:SchoolNow
CALSCALE:GREGORIAN
BEGIN:VEVENT
UID:34947e98-c7cf-11f0-9e46-0a58a9feac02
DTSTAMP:20251216T201016Z
SUMMARY:IMPACT mentoring
LOCATION:D304
URL;VALUE=URI:https://www.op97.org/julian/calendar/8808113/impact-mentoring
DTSTART:20270722T164000Z
DTEND:20270722T175000Z
END:VEVENT
END:VCALENDAR
