BEGIN:VCALENDAR
VERSION:2.0
PRODID:SchoolNow
CALSCALE:GREGORIAN
BEGIN:VEVENT
UID:0e66c78a-cacc-11f0-b02e-02e76ea43b93
DTSTAMP:20251216T201016Z
SUMMARY:B.O.S.S Vibes
LOCATION:B408
URL;VALUE=URI:https://www.op97.org/julian/calendar/8810355/b-o-s-s-vibes
DTSTART:20270726T130000Z
DTEND:20270726T135000Z
END:VEVENT
END:VCALENDAR
