BEGIN:VCALENDAR
VERSION:2.0
PRODID:SchoolNow
CALSCALE:GREGORIAN
BEGIN:VEVENT
UID:ed9855d0-cd2f-11f0-a2ef-0affddc25e6d
DTSTAMP:20251216T201015Z
SUMMARY:Calculation Corner
LOCATION:C205
URL;VALUE=URI:https://www.op97.org/julian/calendar/8812773/calculation-corn
 er
DTSTART:20270729T130000Z
DTEND:20270729T135000Z
END:VEVENT
END:VCALENDAR
