BEGIN:VCALENDAR
VERSION:2.0
PRODID:SchoolNow
CALSCALE:GREGORIAN
BEGIN:VEVENT
UID:ed064dec-cd62-11f0-bd69-0a58a9feac02
DTSTAMP:20251216T201016Z
SUMMARY:IMPACT mentoring
LOCATION:D304
URL;VALUE=URI:https://www.op97.org/julian/calendar/8812852/impact-mentoring
DTSTART:20270729T164000Z
DTEND:20270729T175000Z
END:VEVENT
END:VCALENDAR
