BEGIN:VCALENDAR
VERSION:2.0
PRODID:SchoolNow
CALSCALE:GREGORIAN
BEGIN:VEVENT
UID:ed436772-cd62-11f0-851a-0a58a9feac02
DTSTAMP:20251216T201016Z
SUMMARY:History Club
URL;VALUE=URI:https://www.op97.org/julian/calendar/8812853/history-club
DTSTART:20270729T203000Z
DTEND:20270729T213000Z
END:VEVENT
END:VCALENDAR
