BEGIN:VCALENDAR
VERSION:2.0
PRODID:SchoolNow
CALSCALE:GREGORIAN
BEGIN:VEVENT
UID:c8c350ce-d05f-11f0-a252-0e8def649995
DTSTAMP:20251216T201015Z
SUMMARY:Calculation Corner
LOCATION:C205
URL;VALUE=URI:https://www.op97.org/julian/calendar/8816624/calculation-corn
 er
DTSTART:20270803T130000Z
DTEND:20270803T135000Z
END:VEVENT
END:VCALENDAR
