BEGIN:VCALENDAR
VERSION:2.0
PRODID:SchoolNow
CALSCALE:GREGORIAN
BEGIN:VEVENT
UID:b1c4c26a-d1f7-11f0-bf63-02e82e1eec3d
DTSTAMP:20251216T201015Z
SUMMARY:Calculation Corner
LOCATION:C205
URL;VALUE=URI:https://www.op97.org/julian/calendar/8818276/calculation-corn
 er
DTSTART:20270805T130000Z
DTEND:20270805T135000Z
END:VEVENT
END:VCALENDAR
