BEGIN:VCALENDAR
VERSION:2.0
PRODID:SchoolNow
CALSCALE:GREGORIAN
BEGIN:VEVENT
UID:adf8115e-d22a-11f0-a866-029fefdf2057
DTSTAMP:20251216T201016Z
SUMMARY:History Club
URL;VALUE=URI:https://www.op97.org/julian/calendar/8818763/history-club
DTSTART:20270805T203000Z
DTEND:20270805T213000Z
END:VEVENT
END:VCALENDAR
