BEGIN:VCALENDAR
VERSION:2.0
PRODID:SchoolNow
CALSCALE:GREGORIAN
BEGIN:VEVENT
UID:aebb6c76-d22a-11f0-956b-029fefdf2057
DTSTAMP:20251216T201016Z
SUMMARY:IMPACT mentoring
LOCATION:D304
URL;VALUE=URI:https://www.op97.org/julian/calendar/8818764/impact-mentoring
DTSTART:20270805T164000Z
DTEND:20270805T175000Z
END:VEVENT
END:VCALENDAR
