BEGIN:VCALENDAR
VERSION:2.0
PRODID:SchoolNow
CALSCALE:GREGORIAN
BEGIN:VEVENT
UID:6ae5e98e-d78b-11f0-874e-0a58a9feac02
DTSTAMP:20251216T201016Z
SUMMARY:IMPACT mentoring
LOCATION:D304
URL;VALUE=URI:https://www.op97.org/julian/calendar/8822912/impact-mentoring
DTSTART:20270812T164000Z
DTEND:20270812T175000Z
END:VEVENT
END:VCALENDAR
