BEGIN:VCALENDAR
VERSION:2.0
PRODID:SchoolNow
CALSCALE:GREGORIAN
BEGIN:VEVENT
UID:6b43fd9e-d78b-11f0-ba0f-0a58a9feac02
DTSTAMP:20251216T201015Z
SUMMARY:Calculation Corner
LOCATION:C205
URL;VALUE=URI:https://www.op97.org/julian/calendar/8822913/calculation-corn
 er
DTSTART:20270812T130000Z
DTEND:20270812T135000Z
END:VEVENT
END:VCALENDAR
