BEGIN:VCALENDAR
VERSION:2.0
PRODID:SchoolNow
CALSCALE:GREGORIAN
BEGIN:VEVENT
UID:6548db52-d7be-11f0-a8bf-0a58a9feac02
DTSTAMP:20251216T201016Z
SUMMARY:History Club
URL;VALUE=URI:https://www.op97.org/julian/calendar/8823219/history-club
DTSTART:20270812T203000Z
DTEND:20270812T213000Z
END:VEVENT
END:VCALENDAR
