BEGIN:VCALENDAR
VERSION:2.0
PRODID:SchoolNow
CALSCALE:GREGORIAN
BEGIN:VEVENT
UID:420412de-da88-11f0-b660-0a58a9feac02
DTSTAMP:20251216T201016Z
SUMMARY:B.O.S.S Vibes
LOCATION:B408
URL;VALUE=URI:https://www.op97.org/julian/calendar/8824924/b-o-s-s-vibes
DTSTART:20270816T130000Z
DTEND:20270816T135000Z
END:VEVENT
END:VCALENDAR
