BEGIN:VCALENDAR
VERSION:2.0
PRODID:SchoolNow
CALSCALE:GREGORIAN
BEGIN:VEVENT
UID:fa2d9f5a-f6a5-11ea-9492-0a19f4b3c3d9
DTSTAMP:20200914T161851Z
SUMMARY:D97 Meal Distribution
URL;VALUE=URI:https://www.op97.org/lincoln/calendar/2353836/meal-distributi
 on-111020
DTSTART:20201110T163000Z
DTEND:20201110T190000Z
END:VEVENT
END:VCALENDAR
