BEGIN:VCALENDAR
VERSION:2.0
PRODID:SchoolNow
CALSCALE:GREGORIAN
BEGIN:VEVENT
UID:0472c5b0-2a7f-11ef-94db-0a58a9feac02
DTSTAMP:20240614T185049Z
SUMMARY:First Day of School
URL;VALUE=URI:https://www.op97.org/lincoln/calendar/6121984/first-day-of-sc
 hool
DTSTART;VALUE=DATE:20240822
DTEND;VALUE=DATE:20240823
END:VEVENT
END:VCALENDAR
