BEGIN:VCALENDAR
VERSION:2.0
PRODID:SchoolNow
CALSCALE:GREGORIAN
BEGIN:VEVENT
UID:6b15d956-2a7f-11ef-a1b1-025e35894f9d
DTSTAMP:20240614T185341Z
SUMMARY:Labor Day - D97 Schools/Offices Closed
URL;VALUE=URI:https://www.op97.org/lincoln/calendar/6122220/labor-day-d97-s
 chools-offices-closed
DTSTART;VALUE=DATE:20240902
DTEND;VALUE=DATE:20240903
END:VEVENT
END:VCALENDAR
