BEGIN:VCALENDAR
VERSION:2.0
PRODID:SchoolNow
CALSCALE:GREGORIAN
BEGIN:VEVENT
UID:dae78d28-2a80-11ef-92fc-0a58a9feac02
DTSTAMP:20240614T190358Z
SUMMARY:Indigenous Peoples' Day - D97 Schools/Offices Closed
URL;VALUE=URI:https://www.op97.org/lincoln/calendar/6122242/indigenous-peop
 les-day-d97-schools-offices-closed
DTSTART;VALUE=DATE:20241014
DTEND;VALUE=DATE:20241015
END:VEVENT
END:VCALENDAR
