BEGIN:VCALENDAR
VERSION:2.0
PRODID:SchoolNow
CALSCALE:GREGORIAN
BEGIN:VEVENT
UID:51a96d64-2a81-11ef-8e41-0a58a9feac02
DTSTAMP:20240703T193334Z
SUMMARY:Family/Teacher Conferences - Full Day of Student Attendance
URL;VALUE=URI:https://www.op97.org/lincoln/calendar/6122253/family-teacher-
 conferences-full-day-of-student-attendance
DTSTART;VALUE=DATE:20241024
DTEND;VALUE=DATE:20241025
END:VEVENT
END:VCALENDAR
