BEGIN:VCALENDAR
VERSION:2.0
PRODID:SchoolNow
CALSCALE:GREGORIAN
BEGIN:VEVENT
UID:11dc5cc2-2a82-11ef-82c5-0e638c999ae9
DTSTAMP:20240614T191240Z
SUMMARY:District Closed
URL;VALUE=URI:https://www.op97.org/lincoln/calendar/6122275/district-closed
DTSTART;VALUE=DATE:20241105
DTEND;VALUE=DATE:20241106
END:VEVENT
END:VCALENDAR
