BEGIN:VCALENDAR
VERSION:2.0
PRODID:SchoolNow
CALSCALE:GREGORIAN
BEGIN:VEVENT
UID:428d874a-396b-11ef-87b2-0affd1b2c97d
DTSTAMP:20240703T193543Z
SUMMARY:Family/Teacher Conferences - Full Day of Student Attendance
URL;VALUE=URI:https://www.op97.org/lincoln/calendar/6208039/family-teacher-
 conferences-full-day-of-student-attendance
DTSTART;VALUE=DATE:20250213
DTEND;VALUE=DATE:20250214
END:VEVENT
END:VCALENDAR
