BEGIN:VCALENDAR
VERSION:2.0
PRODID:SchoolNow
CALSCALE:GREGORIAN
BEGIN:VEVENT
UID:a747df8c-396b-11ef-a85d-02de16e5324b
DTSTAMP:20240703T193715Z
SUMMARY:Family/Teacher Conferences - No School for Students
URL;VALUE=URI:https://www.op97.org/lincoln/calendar/6208069/family-teacher-
 conferences-no-school-for-students
DTSTART;VALUE=DATE:20250214
DTEND;VALUE=DATE:20250215
END:VEVENT
END:VCALENDAR
