BEGIN:VCALENDAR
VERSION:2.0
PRODID:SchoolNow
CALSCALE:GREGORIAN
BEGIN:VEVENT
UID:9fb01ad2-3970-11ef-bcef-0ef5fa5f179b
DTSTAMP:20240703T192145Z
SUMMARY:Last Day of School for Students
URL;VALUE=URI:https://www.op97.org/lincoln/calendar/6208278/last-day-of-sch
 ool-for-students
DTSTART;VALUE=DATE:20250604
DTEND;VALUE=DATE:20250605
END:VEVENT
END:VCALENDAR
