BEGIN:VCALENDAR
VERSION:2.0
PRODID:SchoolNow
CALSCALE:GREGORIAN
BEGIN:VEVENT
UID:c48700c4-6958-11ef-b358-0a58a9feac02
DTSTAMP:20240902T182827Z
SUMMARY:Lincoln School Curriculum Night
URL;VALUE=URI:https://www.op97.org/lincoln/calendar/6508674/lincoln-school-
 curriculum-night
DTSTART:20240905T230000Z
DTEND:20240906T003000Z
END:VEVENT
END:VCALENDAR
