BEGIN:VCALENDAR
VERSION:2.0
PRODID:SchoolNow
CALSCALE:GREGORIAN
BEGIN:VEVENT
UID:dfcf32f2-7efb-11f0-a189-02efef4a7877
DTSTAMP:20250828T042630Z
SUMMARY:Lincoln Curriculum Night
URL;VALUE=URI:https://www.op97.org/lincoln/calendar/8531079/lincoln-curricu
 lum-night
DTSTART:20250904T230000Z
DTEND:20250905T003000Z
END:VEVENT
END:VCALENDAR
