BEGIN:VCALENDAR
VERSION:2.0
PRODID:SchoolNow
CALSCALE:GREGORIAN
BEGIN:VEVENT
UID:4f8e1662-7efc-11f0-9c6a-0affe844e53d
DTSTAMP:20250822T020418Z
SUMMARY:PTO Back To School Picnic
LOCATION:Lincoln Playground
URL;VALUE=URI:https://www.op97.org/lincoln/calendar/8531080/pto-back-to-sch
 ool-picnic
DTSTART:20250912T203000Z
DTEND:20250912T230000Z
END:VEVENT
END:VCALENDAR
