BEGIN:VCALENDAR
VERSION:2.0
PRODID:SchoolNow
CALSCALE:GREGORIAN
BEGIN:VEVENT
UID:6f1b964e-7efc-11f0-a627-025850da6195
DTSTAMP:20250822T020510Z
SUMMARY:Picture Day
URL;VALUE=URI:https://www.op97.org/lincoln/calendar/8531081/picture-day
DTSTART:20250917T133000Z
DTEND:20250917T200000Z
END:VEVENT
END:VCALENDAR
