BEGIN:VCALENDAR
VERSION:2.0
PRODID:SchoolNow
CALSCALE:GREGORIAN
BEGIN:VEVENT
UID:5ba71aca-c975-11f0-bd8f-02ea2a6aa5a3
DTSTAMP:20251124T203855Z
SUMMARY:Holiday Sing - Kindergarten and First Grade
URL;VALUE=URI:https://www.op97.org/lincoln/calendar/8809330/holiday-sing-ki
 ndergarten-and-first-grade
DTSTART:20251218T143000Z
DTEND:20251218T164000Z
END:VEVENT
END:VCALENDAR
