BEGIN:VCALENDAR
VERSION:2.0
PRODID:SchoolNow
CALSCALE:GREGORIAN
BEGIN:VEVENT
UID:cfe49b1a-c975-11f0-b51b-0a58a9feac02
DTSTAMP:20251124T204028Z
SUMMARY:Holiday Sing - Second through Fifth Grade
URL;VALUE=URI:https://www.op97.org/lincoln/calendar/8809332/holiday-sing-se
 cond-through-fifth-grade
DTSTART:20251219T141500Z
DTEND:20251219T205000Z
END:VEVENT
END:VCALENDAR
