BEGIN:VCALENDAR
VERSION:2.0
PRODID:SchoolNow
CALSCALE:GREGORIAN
BEGIN:VEVENT
UID:60f6f520-ed99-11f0-ace1-0a58a9feac02
DTSTAMP:20260130T214416Z
SUMMARY:Erin's Law Virtual Family Session
URL;VALUE=URI:https://www.op97.org/lincoln/calendar/8833614/erins-law-virtu
 al-family-session-2026
DTSTART:20260203T003000Z
DTEND:20260203T013000Z
END:VEVENT
END:VCALENDAR
