BEGIN:VCALENDAR
VERSION:2.0
PRODID:SchoolNow
CALSCALE:GREGORIAN
BEGIN:VEVENT
UID:17983b84-9443-11e9-96da-122f12fc1940
DTSTAMP:20190621T163909Z
SUMMARY:Winter Break - No School
URL;VALUE=URI:https://www.op97.org/longfellow/calendar/2011216/winter-break
 -no-school-1920
DTSTART;VALUE=DATE:20191223
DTEND;VALUE=DATE:20200104
END:VEVENT
END:VCALENDAR
