BEGIN:VCALENDAR
VERSION:2.0
PRODID:SchoolNow
CALSCALE:GREGORIAN
BEGIN:VEVENT
UID:aa91b4a4-f30b-11ec-8afc-0a30c8de4f4d
DTSTAMP:20220623T154637Z
SUMMARY:Memorial Day - D97 Schools/Offices Closed
URL;VALUE=URI:https://www.op97.org/longfellow/calendar/3229710/labor-day-no
 -school-clone
DTSTART:20230529T050000Z
DTEND:20230530T045900Z
END:VEVENT
END:VCALENDAR
