BEGIN:VCALENDAR
VERSION:2.0
PRODID:SchoolNow
CALSCALE:GREGORIAN
BEGIN:VEVENT
UID:c3a05568-f30b-11ec-ba75-0a30c8de4f4d
DTSTAMP:20220623T154719Z
SUMMARY:Last Day of School for Students
URL;VALUE=URI:https://www.op97.org/longfellow/calendar/3229720/last-day-of-
 school-2021-060722-clone
DTSTART;VALUE=DATE:20230609
DTEND;VALUE=DATE:20230610
END:VEVENT
END:VCALENDAR
