BEGIN:VCALENDAR
VERSION:2.0
PRODID:SchoolNow
CALSCALE:GREGORIAN
BEGIN:VEVENT
UID:7a0dd306-2314-11ed-824f-0e330b4e42dd
DTSTAMP:20220921T162710Z
SUMMARY:Elementary Instrumental Festival
LOCATION:Oak Park and River Forest High School Auditorium\, 201 Scoville Av
 e.
URL;VALUE=URI:https://www.op97.org/longfellow/calendar/3298214/elementary-i
 nstrumental-festival-2023
DTSTART:20230403T230000Z
DTEND:20230404T010000Z
END:VEVENT
END:VCALENDAR
