BEGIN:VCALENDAR
VERSION:2.0
PRODID:SchoolNow
CALSCALE:GREGORIAN
BEGIN:VEVENT
UID:924baba0-1445-11ee-9657-0e7482235fa7
DTSTAMP:20230626T171913Z
SUMMARY:Independence Day - D97 Schools/Offices Closed
URL;VALUE=URI:https://www.op97.org/longfellow/calendar/4437670/independence
 -day-d97-schools-offices-closed
DTSTART;VALUE=DATE:20230704
DTEND;VALUE=DATE:20230705
END:VEVENT
END:VCALENDAR
