BEGIN:VCALENDAR
VERSION:2.0
PRODID:SchoolNow
CALSCALE:GREGORIAN
BEGIN:VEVENT
UID:9640dc8e-1446-11ee-a576-0e7482235fa7
DTSTAMP:20230626T172858Z
SUMMARY:Institute Day - No School for Students
URL;VALUE=URI:https://www.op97.org/longfellow/calendar/4437682/institute-da
 y-no-school-for-students
DTSTART;VALUE=DATE:20230821
DTEND;VALUE=DATE:20230822
END:VEVENT
END:VCALENDAR
