BEGIN:VCALENDAR
VERSION:2.0
PRODID:SchoolNow
CALSCALE:GREGORIAN
BEGIN:VEVENT
UID:d2fbd8f6-1449-11ee-981c-0e14414dd41b
DTSTAMP:20230626T174939Z
SUMMARY:First Day of School
URL;VALUE=URI:https://www.op97.org/longfellow/calendar/4437803/first-day-of
 -school
DTSTART;VALUE=DATE:20230823
DTEND;VALUE=DATE:20230824
END:VEVENT
END:VCALENDAR
