BEGIN:VCALENDAR
VERSION:2.0
PRODID:SchoolNow
CALSCALE:GREGORIAN
BEGIN:VEVENT
UID:3b608166-1450-11ee-9f32-0a1119413869
DTSTAMP:20230626T183532Z
SUMMARY:Labor Day - D97 Schools/Offices Closed
URL;VALUE=URI:https://www.op97.org/longfellow/calendar/4438990/labor-day-d9
 7-schools-offices-closed
DTSTART;VALUE=DATE:20230904
DTEND;VALUE=DATE:20230905
END:VEVENT
END:VCALENDAR
