BEGIN:VCALENDAR
VERSION:2.0
PRODID:SchoolNow
CALSCALE:GREGORIAN
BEGIN:VEVENT
UID:312c62a8-1452-11ee-be23-0a6006a20b37
DTSTAMP:20230828T161318Z
SUMMARY:Indigenous Peoples' Day - D97 Schools/Offices Closed
URL;VALUE=URI:https://www.op97.org/longfellow/calendar/4439014/indigenous-p
 eoples-day
DTSTART;VALUE=DATE:20231009
DTEND;VALUE=DATE:20231010
END:VEVENT
END:VCALENDAR
