BEGIN:VCALENDAR
VERSION:2.0
PRODID:SchoolNow
CALSCALE:GREGORIAN
BEGIN:VEVENT
UID:3f358e32-1453-11ee-982c-0a6006a20b37
DTSTAMP:20230626T185707Z
SUMMARY:Family/Teacher Conferences - Half Day (A.M. Only)
URL;VALUE=URI:https://www.op97.org/longfellow/calendar/4439031/family-teach
 er-conferences-half-day-a-m-only
DTSTART;VALUE=DATE:20231026
DTEND;VALUE=DATE:20231027
END:VEVENT
END:VCALENDAR
