BEGIN:VCALENDAR
VERSION:2.0
PRODID:SchoolNow
CALSCALE:GREGORIAN
BEGIN:VEVENT
UID:e5da01dc-1453-11ee-aff0-0a6006a20b37
DTSTAMP:20230626T190146Z
SUMMARY:Institute Day - No School for Students
URL;VALUE=URI:https://www.op97.org/longfellow/calendar/4439048/institute-da
 y-no-school-for-students
DTSTART;VALUE=DATE:20231110
DTEND;VALUE=DATE:20231111
END:VEVENT
END:VCALENDAR
