BEGIN:VCALENDAR
VERSION:2.0
PRODID:SchoolNow
CALSCALE:GREGORIAN
BEGIN:VEVENT
UID:1a31ab84-16a1-11ee-b5e2-0a1119413869
DTSTAMP:20230629T171928Z
SUMMARY:Family/Teacher Conferences - Half Day (AM Only)
URL;VALUE=URI:https://www.op97.org/longfellow/calendar/4452941/family-teach
 er-conferences-half-day-am-only
DTSTART;VALUE=DATE:20240208
DTEND;VALUE=DATE:20240209
END:VEVENT
END:VCALENDAR
