BEGIN:VCALENDAR
VERSION:2.0
PRODID:SchoolNow
CALSCALE:GREGORIAN
BEGIN:VEVENT
UID:65e84be6-57ce-11ee-ab0e-0ea8776c1f05
DTSTAMP:20230920T155727Z
SUMMARY:1st Trimester Report Card Distribution
URL;VALUE=URI:https://www.op97.org/longfellow/calendar/4766390/1st-trimeste
 r-report-card-distribution-2023
DTSTART;VALUE=DATE:20231208
DTEND;VALUE=DATE:20231209
END:VEVENT
END:VCALENDAR
