BEGIN:VCALENDAR
VERSION:2.0
PRODID:SchoolNow
CALSCALE:GREGORIAN
BEGIN:VEVENT
UID:d782ad56-5caa-11ee-936f-0a58a9feac02
DTSTAMP:20230926T202532Z
SUMMARY:2nd Trimester Report Card Distribution
URL;VALUE=URI:https://www.op97.org/longfellow/calendar/4797626/2nd-trimeste
 r-report-card-distribution-2024
DTSTART:20240322T161100Z
DTEND:20240322T171100Z
END:VEVENT
END:VCALENDAR
