BEGIN:VCALENDAR
VERSION:2.0
PRODID:SchoolNow
CALSCALE:GREGORIAN
BEGIN:VEVENT
UID:0ff2d008-5cab-11ee-bb2d-0a58a9feac02
DTSTAMP:20230926T202707Z
SUMMARY:3rd Trimester Ends and Report Card Distribution
URL;VALUE=URI:https://www.op97.org/longfellow/calendar/4797636/3rd-trimeste
 r-ends
DTSTART:20240604T050000Z
DTEND:20240605T045900Z
END:VEVENT
END:VCALENDAR
