BEGIN:VCALENDAR
VERSION:2.0
PRODID:SchoolNow
CALSCALE:GREGORIAN
BEGIN:VEVENT
UID:25373a16-2a7e-11ef-8e42-02ecf79f6b37
DTSTAMP:20240614T184435Z
SUMMARY:Institute Day - No School for Students
URL;VALUE=URI:https://www.op97.org/longfellow/calendar/6121441/institute-da
 y-no-school-for-students
DTSTART;VALUE=DATE:20240819
DTEND;VALUE=DATE:20240820
END:VEVENT
END:VCALENDAR
