BEGIN:VCALENDAR
VERSION:2.0
PRODID:SchoolNow
CALSCALE:GREGORIAN
BEGIN:VEVENT
UID:a07bd9de-2a7e-11ef-96d3-0a58a9feac02
DTSTAMP:20240614T184801Z
SUMMARY:Institute Day - No School for Students
URL;VALUE=URI:https://www.op97.org/longfellow/calendar/6121523/institute-da
 y-no-school-for-students
DTSTART;VALUE=DATE:20240821
DTEND;VALUE=DATE:20240822
END:VEVENT
END:VCALENDAR
